BEGIN:VCALENDAR
VERSION:2.0
PRODID:-//New England Commission Higher Education - ECPv6.8.3//NONSGML v1.0//EN
CALSCALE:GREGORIAN
METHOD:PUBLISH
X-WR-CALNAME:New England Commission Higher Education
X-ORIGINAL-URL:https://www.neche.org
X-WR-CALDESC:Events for New England Commission Higher Education
REFRESH-INTERVAL;VALUE=DURATION:PT1H
X-Robots-Tag:noindex
X-PUBLISHED-TTL:PT1H
BEGIN:VTIMEZONE
TZID:America/New_York
BEGIN:DAYLIGHT
TZOFFSETFROM:-0500
TZOFFSETTO:-0400
TZNAME:EDT
DTSTART:20230312T070000
END:DAYLIGHT
BEGIN:STANDARD
TZOFFSETFROM:-0400
TZOFFSETTO:-0500
TZNAME:EST
DTSTART:20231105T060000
END:STANDARD
END:VTIMEZONE
BEGIN:VEVENT
DTSTART;TZID=America/New_York:20231207T140000
DTEND;TZID=America/New_York:20231207T170000
DTSTAMP:20260422T070706
CREATED:20230622T154014Z
LAST-MODIFIED:20231120T164952Z
UID:7072-1701957600-1701968400@www.neche.org
SUMMARY:Equity-Minded Assessment: Moving Your Institution from Theory to Practice
DESCRIPTION:Presenters: Mamta Saxena\, Northeastern University; \nCarina Self\, University of New Hampshire; \nMark Nicholas\, Framingham State University; \nKim McKeage\, Greenfield Community College; \nJennifer Mandel\, University of New England \nModerator: Melinda Treadwell\, Commissioner
URL:https://www.neche.org/event/equity-minded-assessment-moving-your-institution-from-theory-to-practice/
CATEGORIES:2024 Annual Meeting
END:VEVENT
BEGIN:VEVENT
DTSTART;TZID=America/New_York:20231207T140000
DTEND;TZID=America/New_York:20231207T151500
DTSTAMP:20260422T070706
CREATED:20230907T154844Z
LAST-MODIFIED:20231127T145821Z
UID:7397-1701957600-1701962100@www.neche.org
SUMMARY:Realizing Your Strategic Planning Goals:  From Conception to Implementation to Institutionalizing
DESCRIPTION:Presenters: Sean Ferguson and Paul Tesluk\, Bentley University; \nJudith Dutill\, Urban College of Boston; \nYvonne Kirby and Lisa Bucher\, Central Connecticut State University \nModerator: James Herbert\, Commissioner
URL:https://www.neche.org/event/realizing-your-strategic-planning-goals-from-conception-to-implementation-to-execution/
CATEGORIES:2024 Annual Meeting
END:VEVENT
BEGIN:VEVENT
DTSTART;TZID=America/New_York:20231207T140000
DTEND;TZID=America/New_York:20231207T151500
DTSTAMP:20260422T070706
CREATED:20230622T154118Z
LAST-MODIFIED:20241120T145713Z
UID:7074-1701957600-1701962100@www.neche.org
SUMMARY:Maintaining Excellence in a New Student-Centered Doctoral Training Program in Health Profess. Educ.
DESCRIPTION:Presenters: Roger A. Edwards\, ScD and Rosemary Caron\, PhD\, MGH Institute of Health Professions; \nCaroline S. Zeind\, Massachusetts College of Pharmacy and Health Sciences; \nAnne Weaver\, University of Massachusetts Medical Center \nModerator: John Flynn\, Commissioner \n 
URL:https://www.neche.org/event/implementation-of-student-centered-doctoral-training-in-the-post-covid-19-era-maintaining-excellence-and-addressing-challenges-in-a-new-phd-program-in-health-professions-education/
END:VEVENT
BEGIN:VEVENT
DTSTART;TZID=America/New_York:20231207T123000
DTEND;TZID=America/New_York:20231207T134500
DTSTAMP:20260422T070706
CREATED:20230622T153926Z
LAST-MODIFIED:20241120T133124Z
UID:7071-1701952200-1701956700@www.neche.org
SUMMARY:Keynote Luncheon: Fireside Chat with Under Secretary James Kvaal
DESCRIPTION:Presenters: Under Secretary James Kvaal\, U.S Department of Education \nIntroduction: Russell Carey\, Commission Chair \nNECHE Moderator: Larry Schall
URL:https://www.neche.org/event/keynote-luncheon/
END:VEVENT
BEGIN:VEVENT
DTSTART;VALUE=DATE:20230815
DTEND;VALUE=DATE:20230816
DTSTAMP:20260422T070706
CREATED:20230523T152306Z
LAST-MODIFIED:20230523T152306Z
UID:6338-1692057600-1692143999@www.neche.org
SUMMARY:Fall 2023 Interim and Progress Reports Due
DESCRIPTION:
URL:https://www.neche.org/event/fall-2023-interim-and-progress-reports-due/
CATEGORIES:Deadline
END:VEVENT
BEGIN:VEVENT
DTSTART;VALUE=DATE:20230725
DTEND;VALUE=DATE:20230726
DTSTAMP:20260422T070706
CREATED:20230523T152234Z
LAST-MODIFIED:20230523T152234Z
UID:6337-1690243200-1690329599@www.neche.org
SUMMARY:Self-Study II Workshop
DESCRIPTION:
URL:https://www.neche.org/event/self-study-ii-workshop/
CATEGORIES:NECHE Event
END:VEVENT
BEGIN:VEVENT
DTSTART;VALUE=DATE:20230720
DTEND;VALUE=DATE:20230721
DTSTAMP:20260422T070706
CREATED:20230523T152212Z
LAST-MODIFIED:20230523T152212Z
UID:6335-1689811200-1689897599@www.neche.org
SUMMARY:Interim Report Workshop
DESCRIPTION:
URL:https://www.neche.org/event/interim-report-workshop/
LOCATION:NEASC Office\, Lowell\, MA\, United States
CATEGORIES:NECHE Event
END:VEVENT
BEGIN:VEVENT
DTSTART;VALUE=DATE:20230703
DTEND;VALUE=DATE:20230705
DTSTAMP:20260422T070706
CREATED:20230523T152040Z
LAST-MODIFIED:20230523T152040Z
UID:6334-1688342400-1688515199@www.neche.org
SUMMARY:NECHE Office Closed
DESCRIPTION:
URL:https://www.neche.org/event/neche-office-closed-3/
CATEGORIES:Closure
END:VEVENT
BEGIN:VEVENT
DTSTART;VALUE=DATE:20230619
DTEND;VALUE=DATE:20230620
DTSTAMP:20260422T070706
CREATED:20230523T152006Z
LAST-MODIFIED:20230523T152006Z
UID:6333-1687132800-1687219199@www.neche.org
SUMMARY:NECHE Office Closed
DESCRIPTION:
URL:https://www.neche.org/event/neche-office-closed-2/
CATEGORIES:Closure
END:VEVENT
BEGIN:VEVENT
DTSTART;VALUE=DATE:20230615
DTEND;VALUE=DATE:20230617
DTSTAMP:20260422T070706
CREATED:20230523T151934Z
LAST-MODIFIED:20230629T160839Z
UID:6332-1686787200-1686959999@www.neche.org
SUMMARY:NECHE Commission Retreat
DESCRIPTION:
URL:https://www.neche.org/event/neche-commission-retreat/
CATEGORIES:NECHE Event
END:VEVENT
BEGIN:VEVENT
DTSTART;VALUE=DATE:20230602
DTEND;VALUE=DATE:20230603
DTSTAMP:20260422T070706
CREATED:20230523T151846Z
LAST-MODIFIED:20230523T151846Z
UID:6331-1685664000-1685750399@www.neche.org
SUMMARY:Annual Report Closes
DESCRIPTION:
URL:https://www.neche.org/event/annual-report-closes/
CATEGORIES:Deadline
END:VEVENT
BEGIN:VEVENT
DTSTART;VALUE=DATE:20230529
DTEND;VALUE=DATE:20230530
DTSTAMP:20260422T070706
CREATED:20230523T151804Z
LAST-MODIFIED:20230523T151804Z
UID:6330-1685318400-1685404799@www.neche.org
SUMMARY:NECHE Office Closed
DESCRIPTION:
URL:https://www.neche.org/event/neche-office-closed/
CATEGORIES:Closure
END:VEVENT
BEGIN:VEVENT
DTSTART;VALUE=DATE:20230526
DTEND;VALUE=DATE:20230527
DTSTAMP:20260422T070706
CREATED:20230523T151733Z
LAST-MODIFIED:20230523T151733Z
UID:6329-1685059200-1685145599@www.neche.org
SUMMARY:NECHE Office closes at 1 pm
DESCRIPTION:
URL:https://www.neche.org/event/neche-office-closes-at-1-pm/
CATEGORIES:Closure
END:VEVENT
END:VCALENDAR