BEGIN:VCALENDAR
VERSION:2.0
PRODID:-//New England Commission Higher Education - ECPv6.8.3//NONSGML v1.0//EN
CALSCALE:GREGORIAN
METHOD:PUBLISH
X-WR-CALNAME:New England Commission Higher Education
X-ORIGINAL-URL:https://www.neche.org
X-WR-CALDESC:Events for New England Commission Higher Education
REFRESH-INTERVAL;VALUE=DURATION:PT1H
X-Robots-Tag:noindex
X-PUBLISHED-TTL:PT1H
BEGIN:VTIMEZONE
TZID:America/New_York
BEGIN:DAYLIGHT
TZOFFSETFROM:-0500
TZOFFSETTO:-0400
TZNAME:EDT
DTSTART:20240310T070000
END:DAYLIGHT
BEGIN:STANDARD
TZOFFSETFROM:-0400
TZOFFSETTO:-0500
TZNAME:EST
DTSTART:20241103T060000
END:STANDARD
END:VTIMEZONE
BEGIN:VEVENT
DTSTART;TZID=America/New_York:20241206T080000
DTEND;TZID=America/New_York:20241206T091500
DTSTAMP:20260423T044711
CREATED:20230622T153821Z
LAST-MODIFIED:20240905T125908Z
UID:7069-1733472000-1733476500@www.neche.org
SUMMARY:Business Meeting & Volunteer Recognition Breakfast
DESCRIPTION:
URL:https://www.neche.org/event/business-meeting-volunteer-recognition-breakfast/
CATEGORIES:2024 Annual Meeting
END:VEVENT
BEGIN:VEVENT
DTSTART;TZID=America/New_York:20241206T093000
DTEND;TZID=America/New_York:20241206T103000
DTSTAMP:20260423T044711
CREATED:20230907T152928Z
LAST-MODIFIED:20240904T183509Z
UID:7390-1733477400-1733481000@www.neche.org
SUMMARY:Sticky Situations: Substantive Changes\, Innovation\, Commission Policies\, & More
DESCRIPTION:Presenters: Carol Anderson\, NECHE \nLaura M. Gambino\, NECHE \nAlison Garner\, NECHE
URL:https://www.neche.org/event/sticky-situations-substantive-changes-innovation-commission-policies-more/
CATEGORIES:2024 Annual Meeting
END:VEVENT
BEGIN:VEVENT
DTSTART;TZID=America/New_York:20241206T093000
DTEND;TZID=America/New_York:20241206T103000
DTSTAMP:20260423T044711
CREATED:20240904T180533Z
LAST-MODIFIED:20240904T180533Z
UID:7700-1733477400-1733481000@www.neche.org
SUMMARY:Improving Student Learning and Success by Centering Assessment work with Faculty Developers and in Centers for Teaching and Learning
DESCRIPTION:Presenters: Lynn Murray-Chandler\, Clark University \nEmily Gannon\, Southern New Hampshire University \nJohn LaBrie\, Clark University \nChristopher Taylor\, Al Akhawayn University \nModerator: Sebastian Royo\, Clark University
URL:https://www.neche.org/event/improving-student-learning-and-success/
CATEGORIES:2024 Annual Meeting
END:VEVENT
BEGIN:VEVENT
DTSTART;TZID=America/New_York:20241206T103000
DTEND;TZID=America/New_York:20241206T104500
DTSTAMP:20260423T044711
CREATED:20230622T154452Z
LAST-MODIFIED:20240612T154913Z
UID:7080-1733481000-1733481900@www.neche.org
SUMMARY:Refreshment Break
DESCRIPTION:
URL:https://www.neche.org/event/closing-keynote/
CATEGORIES:2024 Annual Meeting
END:VEVENT
BEGIN:VEVENT
DTSTART;TZID=America/New_York:20241206T104500
DTEND;TZID=America/New_York:20241206T120000
DTSTAMP:20260423T044711
CREATED:20230907T153559Z
LAST-MODIFIED:20241003T135946Z
UID:7393-1733481900-1733486400@www.neche.org
SUMMARY:NECHE Standards Revision Update
DESCRIPTION:
URL:https://www.neche.org/event/neche-standards-revision-update/
CATEGORIES:2024 Annual Meeting
END:VEVENT
END:VCALENDAR